BEGIN:VCALENDAR
VERSION:2.0
PRODID:-//Tukios.com/
BEGIN:VEVENT
UID:685b973a-95dd-46d3-b534-9f25d10c51c9@www.hofffuneral.com
DTSTAMP:20260420T205200Z
DTSTART:20260426
SUMMARY:Burial
DESCRIPTION:
URL:https://www.hofffuneral.com/obituaries/thouang-louprasong
LOCATION: 600 E 5th St  Saint Charles MN 55972
GEO:43.9725449;-92.058382
END:VEVENT
END:VCALENDAR