BEGIN:VCALENDAR
VERSION:2.0
PRODID:-//Tukios.com/
BEGIN:VEVENT
UID:408091c3-e69a-4108-bec7-020f13997dc3@www.hofffuneral.com
DTSTAMP:20260420T205505Z
DTSTART:20260426T180000Z
DTEND:20260426T200000Z
SUMMARY:Funeral Service
DESCRIPTION:
URL:https://www.hofffuneral.com/obituaries/thouang-louprasong
LOCATION: 519 St Martin Ave  St Charles MN 55972
GEO:43.9726633;-92.0734907
END:VEVENT
END:VCALENDAR