BEGIN:VCALENDAR
VERSION:2.0
PRODID:-//Tukios.com/
BEGIN:VEVENT
UID:d204488f-5a67-4cfd-9899-db7e4b3a840b@www.hofffuneral.com
DTSTAMP:20260419T215101Z
DTSTART:20260425T170000Z
DTEND:20260425T190000Z
SUMMARY:Visitation
DESCRIPTION:
URL:https://www.hofffuneral.com/obituaries/scott-virock
LOCATION: 710 E Cedar St  Houston MN 55943
GEO:43.7631236;-91.5596885
END:VEVENT
END:VCALENDAR