BEGIN:VCALENDAR
VERSION:2.0
PRODID:-//Tukios.com/
BEGIN:VEVENT
UID:87623786-735c-4590-a51a-9e114b85e505@www.hofffuneral.com
DTSTAMP:20260419T202018Z
DTSTART:20260426T150000Z
DTEND:20260426T170000Z
SUMMARY:Visitation
DESCRIPTION:
URL:https://www.hofffuneral.com/obituaries/scott-brink
LOCATION: 3480 Service Drive  Winona MN 55987
GEO:44.0563846;-91.6923572
END:VEVENT
END:VCALENDAR