BEGIN:VCALENDAR
VERSION:2.0
PRODID:-//Tukios.com/
BEGIN:VEVENT
UID:5e7bbeec-2658-4e89-9361-52255e164b29@www.hofffuneral.com
DTSTAMP:20260419T201554Z
DTSTART:20260426T170000Z
DTEND:20260426T180000Z
SUMMARY:Funeral Service
DESCRIPTION:
URL:https://www.hofffuneral.com/obituaries/scott-brink
LOCATION: 3480 Service Drive  Winona MN 55987
GEO:44.0563846;-91.6923572
END:VEVENT
END:VCALENDAR