BEGIN:VCALENDAR
VERSION:2.0
PRODID:-//Tukios.com/
BEGIN:VEVENT
UID:bdc0b03b-e221-436e-a6b3-f33cbcdce58a@www.hofffuneral.com
DTSTAMP:20260423T194832Z
DTSTART:20260606T160000Z
DTEND:20260606T170000Z
SUMMARY:Celebration of Life
DESCRIPTION:
URL:https://www.hofffuneral.com/obituaries/lyle-nelson
LOCATION: 101 South Mill Street  Rushford MN 55971
GEO:43.8100879;-91.7536535
END:VEVENT
END:VCALENDAR