BEGIN:VCALENDAR
VERSION:2.0
PRODID:-//Tukios.com/
BEGIN:VEVENT
UID:73e5dac5-8d4d-4f04-98f2-0991f867eac5@www.hofffuneral.com
DTSTAMP:20260423T194605Z
DTSTART:20260606T150000Z
DTEND:20260606T160000Z
SUMMARY:Visitation
DESCRIPTION:
URL:https://www.hofffuneral.com/obituaries/lyle-nelson
LOCATION: 101 South Mill Street  Rushford MN 55971
GEO:43.8100879;-91.7536535
END:VEVENT
END:VCALENDAR