BEGIN:VCALENDAR
VERSION:2.0
PRODID:-//Tukios.com/
BEGIN:VEVENT
UID:e66dd845-b3f4-4c39-8669-1d76bb2a3b42@www.hofffuneral.com
DTSTAMP:20260422T204625Z
DTSTART:20260501T150000Z
DTEND:20260501T160000Z
SUMMARY:Visitation
DESCRIPTION:
URL:https://www.hofffuneral.com/obituaries/larry-gudmundson
LOCATION: 180 Williams St  Lewiston MN 55952
GEO:43.9864449;-91.8670866
END:VEVENT
END:VCALENDAR