BEGIN:VCALENDAR
VERSION:2.0
PRODID:-//Tukios.com/
BEGIN:VEVENT
UID:b5ebdc2d-bb74-45fc-87e2-25f51e21476c@www.hofffuneral.com
DTSTAMP:20260421T234017Z
DTSTART:20260509T230000Z
DTEND:20260510T000000Z
SUMMARY:Memorial Service
DESCRIPTION:
URL:https://www.hofffuneral.com/obituaries/debra-deb-hagedorn
LOCATION: 780 N Mill St  Rushford MN 55971
GEO:43.81960617;-91.75368387
END:VEVENT
END:VCALENDAR