BEGIN:VCALENDAR
VERSION:2.0
PRODID:-//Tukios.com/
BEGIN:VEVENT
UID:291e3fd3-98e4-4fc6-9e73-eaa37477820e@www.hofffuneral.com
DTSTAMP:20260421T234042Z
DTSTART:20260509T210000Z
DTEND:20260509T230000Z
SUMMARY:Visitation
DESCRIPTION:
URL:https://www.hofffuneral.com/obituaries/debra-deb-hagedorn
LOCATION: 780 N Mill St  Rushford MN 55971
GEO:43.81960617;-91.75368387
END:VEVENT
END:VCALENDAR