BEGIN:VCALENDAR
VERSION:2.0
PRODID:-//Tukios.com/
BEGIN:VEVENT
UID:eafe3a1c-d460-4aa7-a09f-38b7c7c7cad8@www.hofffuneral.com
DTSTAMP:20260421T150529Z
DTSTART:20260505T180000Z
DTEND:20260505T190000Z
SUMMARY:Memorial Service
DESCRIPTION:
URL:https://www.hofffuneral.com/obituaries/deborah-moran
LOCATION: 780 N Mill St  Rushford MN 55971
GEO:43.81960617;-91.75368387
END:VEVENT
END:VCALENDAR