BEGIN:VCALENDAR
VERSION:2.0
PRODID:-//Tukios.com/
BEGIN:VEVENT
UID:4ccef7a8-af8d-4d2a-9d7f-e591fa60567b@www.hofffuneral.com
DTSTAMP:20260421T150901Z
DTSTART:20260505T170000Z
DTEND:20260505T180000Z
SUMMARY:Visitation
DESCRIPTION:
URL:https://www.hofffuneral.com/obituaries/deborah-moran
LOCATION: 780 N Mill St  Rushford MN 55971
GEO:43.81960617;-91.75368387
END:VEVENT
END:VCALENDAR