BEGIN:VCALENDAR
VERSION:2.0
PRODID:-//Tukios.com/
BEGIN:VEVENT
UID:0b0904fd-325e-4d2e-b048-0c85b48b9035@www.hofffuneral.com
DTSTAMP:20260425T024130Z
DTSTART:20260430T210000Z
DTEND:20260430T230000Z
SUMMARY:Visitation
DESCRIPTION:
URL:https://www.hofffuneral.com/obituaries/daniel-jacquart
LOCATION:Hoff Celebration of Life Center – Goodview 3480 Service Drive  
	Winona MN 55987
GEO:44.0563;-91.692277
END:VEVENT
END:VCALENDAR