BEGIN:VCALENDAR
VERSION:2.0
PRODID:-//Tukios.com/
BEGIN:VEVENT
UID:653988e3-0c67-4b37-9aa7-179ce6e0c03e@www.hofffuneral.com
DTSTAMP:20260422T220714Z
DTSTART:20260530T160000Z
DTEND:20260530T170000Z
SUMMARY:Memorial Service
DESCRIPTION:
URL:https://www.hofffuneral.com/obituaries/charlotte-kerrigan
LOCATION: 204 S Chase St  Houston MN 55943
GEO:43.7617566;-91.5624113
END:VEVENT
END:VCALENDAR