BEGIN:VCALENDAR
VERSION:2.0
PRODID:-//Tukios.com/
BEGIN:VEVENT
UID:9db67cff-4678-4861-89ab-be17cb90571f@www.hofffuneral.com
DTSTAMP:20260422T220959Z
DTSTART:20260530T150000Z
DTEND:20260530T160000Z
SUMMARY:Visitation
DESCRIPTION:
URL:https://www.hofffuneral.com/obituaries/charlotte-kerrigan
LOCATION: 204 S Chase St  Houston MN 55943
GEO:43.7617566;-91.5624113
END:VEVENT
END:VCALENDAR